BEGIN:VCALENDAR
VERSION:2.0
PRODID:-//Kalamazoo Downtown - ECPv6.15.16.1//NONSGML v1.0//EN
CALSCALE:GREGORIAN
METHOD:PUBLISH
X-WR-CALNAME:Kalamazoo Downtown
X-ORIGINAL-URL:https://downtownkalamazoo.org
X-WR-CALDESC:Events for Kalamazoo Downtown
REFRESH-INTERVAL;VALUE=DURATION:PT1H
X-Robots-Tag:noindex
X-PUBLISHED-TTL:PT1H
BEGIN:VTIMEZONE
TZID:America/Indiana/Indianapolis
BEGIN:DAYLIGHT
TZOFFSETFROM:-0500
TZOFFSETTO:-0400
TZNAME:EDT
DTSTART:20250309T070000
END:DAYLIGHT
BEGIN:STANDARD
TZOFFSETFROM:-0400
TZOFFSETTO:-0500
TZNAME:EST
DTSTART:20251102T060000
END:STANDARD
BEGIN:DAYLIGHT
TZOFFSETFROM:-0500
TZOFFSETTO:-0400
TZNAME:EDT
DTSTART:20260308T070000
END:DAYLIGHT
BEGIN:STANDARD
TZOFFSETFROM:-0400
TZOFFSETTO:-0500
TZNAME:EST
DTSTART:20261101T060000
END:STANDARD
BEGIN:DAYLIGHT
TZOFFSETFROM:-0500
TZOFFSETTO:-0400
TZNAME:EDT
DTSTART:20270314T070000
END:DAYLIGHT
BEGIN:STANDARD
TZOFFSETFROM:-0400
TZOFFSETTO:-0500
TZNAME:EST
DTSTART:20271107T060000
END:STANDARD
END:VTIMEZONE
BEGIN:VEVENT
DTSTART;TZID=America/Indiana/Indianapolis:20260520T190000
DTEND;TZID=America/Indiana/Indianapolis:20260520T200000
DTSTAMP:20260419T102038
CREATED:20250910T142832Z
LAST-MODIFIED:20250910T142832Z
UID:266914-1779303600-1779307200@downtownkalamazoo.org
SUMMARY:90s Throwbacks | Kalamazoo Symphony
DESCRIPTION:Break out the Animal Print & Scrunchies! \nThe Symphony is going out – and you’re invited! Join us in the Back Room for a pint of your favorite Bell’s brew and incredible music performed by Symphony musicians. \nOn Tap: Your favorite 90s Throwbacks! \nAge Requirement: All shows at Bell’s Eccentric Café are 18 and up\, or 17 and under with a parent/guardian. \n___ \nStandard Tickets: $30 \nAll ticket prices are subject to change. A ticketing fee will be applied to all orders. \nDetails & Tickets: https://kalamazoosymphony.com/concerts/90s/
URL:https://downtownkalamazoo.org/event/90s-throwbacks-kalamazoo-symphony
LOCATION:Bell’s Eccentric Café\, 355 E Kalamazoo Ave\, Kalamazoo\, 49007
ATTACH;FMTTYPE=image/jpeg:https://downtownkalamazoo.org/wp-content/uploads/2023/09/KDP01-Summer2021-00547.jpg
END:VEVENT
END:VCALENDAR